BEGIN:VCALENDAR
VERSION:2.0
PRODID:-//Sabre//Sabre VObject 4.5.8//EN
CALSCALE:GREGORIAN
BEGIN:VEVENT
UID:sabre-vobject-f4c4f897-9067-4383-980e-8e1a83fc2031
DTSTAMP:20260421T084839Z
SUMMARY:Familienwoche: Begegnung
DESCRIPTION:https://kempten.keb-oberallgaeu.de/keb-kempten-oberallgaeu/vera
 nstaltungen/familienwoche-begegnung_id246195
DTSTART;TZID=Europe/Berlin:20250802T000000
DTEND;TZID=Europe/Berlin:20250809T000000
LOCATION:Jugendhaus Elias\, Seifriedsberg 12\, 87544 Blaichach
END:VEVENT
END:VCALENDAR
