BEGIN:VCALENDAR
VERSION:2.0
PRODID:-//Sabre//Sabre VObject 4.5.8//EN
CALSCALE:GREGORIAN
BEGIN:VEVENT
UID:sabre-vobject-790d9e00-a82c-4b97-933e-a53cbb1abc19
DTSTAMP:20260421T084947Z
SUMMARY:Eltern-Kind-Gruppe
DESCRIPTION:https://kempten.keb-oberallgaeu.de/keb-kempten-oberallgaeu/vera
 nstaltungen/eltern-kind-gruppe_id246370
DTSTART;TZID=Europe/Berlin:20250513T093000
DTEND;TZID=Europe/Berlin:20250513T110000
LOCATION:Pfarrsaal\, Heiligkreuzer Straße 100\, 87439 Kempten (Allgäu)
END:VEVENT
END:VCALENDAR
