BEGIN:VCALENDAR
VERSION:2.0
PRODID:-//Sabre//Sabre VObject 4.5.8//EN
CALSCALE:GREGORIAN
BEGIN:VEVENT
UID:sabre-vobject-30f18c94-c075-4d2e-a520-0d9d8f929312
DTSTAMP:20260421T090034Z
SUMMARY:Reifen statt altern
DESCRIPTION:https://kempten.keb-oberallgaeu.de/keb-kempten-oberallgaeu/vera
 nstaltungen/reifen-statt-altern_id263312
DTSTART;TZID=Europe/Berlin:20250804T193000
LOCATION:Johannisheim\, Weststraße 7-9\, 87561 Oberstdorf
END:VEVENT
END:VCALENDAR
