BEGIN:VCALENDAR
VERSION:2.0
PRODID:-//Sabre//Sabre VObject 4.5.8//EN
CALSCALE:GREGORIAN
BEGIN:VEVENT
UID:sabre-vobject-c2a95579-01ba-4d2d-9d7c-c2b4ae0b6938
DTSTAMP:20260420T102428Z
SUMMARY:Aktuelle Rathausstunde - Informationsveranstaltung für die Seniore
 n
DESCRIPTION:https://kempten.keb-oberallgaeu.de/keb-kempten-oberallgaeu/vera
 nstaltungen/aktuelle-rathausstunde-informationsveranstaltung-fuer-die-seni
 oren_id280820
DTSTART;TZID=Europe/Berlin:20250708T140000
LOCATION:Pfarrzentrum Lauben\, Auf'm Kirchenbühl 1\, 87493 Lauben
END:VEVENT
END:VCALENDAR
