BEGIN:VCALENDAR
VERSION:2.0
PRODID:-//Sabre//Sabre VObject 4.5.8//EN
CALSCALE:GREGORIAN
BEGIN:VEVENT
UID:sabre-vobject-51d0b9c4-a581-4bb9-882e-ddc5aaae0089
DTSTAMP:20260421T154638Z
SUMMARY:Jahresrückblick von Helga Müller
DESCRIPTION:https://kempten.keb-oberallgaeu.de/keb-kempten-oberallgaeu/vera
 nstaltungen/jahresrueckblick-von-helga-mueller_id292396
DTSTART;TZID=Europe/Berlin:20261103T140000
LOCATION:Pfarrheim Börwang\, Wagegger Straße 6\, 87490 Haldenwang
END:VEVENT
END:VCALENDAR
