BEGIN:VCALENDAR
VERSION:2.0
PRODID:-//Sabre//Sabre VObject 4.5.8//EN
CALSCALE:GREGORIAN
BEGIN:VEVENT
UID:sabre-vobject-e4d0f6fe-26dd-4f07-a15c-fdcd0d0c6339
DTSTAMP:20260421T124840Z
SUMMARY:Adventsfeier für Senioren der Gemeinde und Kirche
DESCRIPTION:https://kempten.keb-oberallgaeu.de/keb-kempten-oberallgaeu/vera
 nstaltungen/adventsfeier-fuer-senioren-der-gemeinde-und-kirche_id292398
DTSTART;TZID=Europe/Berlin:20261201T133000
LOCATION:Sportzentrum Haldenwang\, Am Schwimmbad 2\, 87490 Haldenwang
END:VEVENT
END:VCALENDAR
