BEGIN:VCALENDAR
VERSION:2.0
PRODID:-//Sabre//Sabre VObject 4.5.8//EN
CALSCALE:GREGORIAN
BEGIN:VEVENT
UID:sabre-vobject-275f8919-e26c-4cc0-ace0-08ede82b78fe
DTSTAMP:20260421T124746Z
SUMMARY:Regina Mingotti - eine Ahnfrau von Dr. Otto Merkt
DESCRIPTION:https://kempten.keb-oberallgaeu.de/keb-kempten-oberallgaeu/vera
 nstaltungen/regina-mingotti-eine-ahnfrau-von-dr-otto-merkt_id297843
DTSTART;TZID=Europe/Berlin:20261206T110000
LOCATION:Zumsteinhaus\, Residenzplatz 31\, 87435 Kempten (Allgäu)
END:VEVENT
END:VCALENDAR
