BEGIN:VCALENDAR
VERSION:2.0
PRODID:-//Sabre//Sabre VObject 4.5.8//EN
CALSCALE:GREGORIAN
BEGIN:VEVENT
UID:sabre-vobject-07bc5538-a987-4fdb-8582-063776b56a5d
DTSTAMP:20260421T090436Z
SUMMARY:Yoga mit Schwerpunkt Meditation
DESCRIPTION:https://kempten.keb-oberallgaeu.de/keb-kempten-oberallgaeu/vera
 nstaltungen/yoga-mit-schwerpunkt-meditation_id297857
DTSTART;TZID=Europe/Berlin:20260414T173000
DTEND;TZID=Europe/Berlin:20260414T190000
LOCATION:Bewegungsraum der Kita "Abenteuerland"\, Bussardweg 1\, 87439 Kemp
 ten (Allgäu)
END:VEVENT
END:VCALENDAR
