BEGIN:VCALENDAR
VERSION:2.0
PRODID:-//Sabre//Sabre VObject 4.5.8//EN
CALSCALE:GREGORIAN
BEGIN:VEVENT
UID:sabre-vobject-48c0e2de-750a-419f-9791-4317adcbee20
DTSTAMP:20260421T143105Z
SUMMARY:Ausflug ins historische Kempten in Grafiken und Fotografien
DESCRIPTION:https://kempten.keb-oberallgaeu.de/keb-kempten-oberallgaeu/vera
 nstaltungen/ausflug-ins-historische-kempten-in-grafiken-und-fotografien_id
 297888
DTSTART;TZID=Europe/Berlin:20261124T190000
LOCATION:Altstadthaus\, Schützenstraße 2\, 87435 Kempten (Allgäu)
END:VEVENT
END:VCALENDAR
