BEGIN:VCALENDAR
VERSION:2.0
PRODID:-//Sabre//Sabre VObject 4.5.8//EN
CALSCALE:GREGORIAN
BEGIN:VEVENT
UID:sabre-vobject-c96c69af-711c-437e-9da5-10fe8bbea38c
DTSTAMP:20260421T124710Z
SUMMARY:Nikolauswanderung zur Nikolauskirche in Wirlings mit Führung und E
 inkehr
DESCRIPTION:https://kempten.keb-oberallgaeu.de/keb-kempten-oberallgaeu/vera
 nstaltungen/nikolauswanderung-zur-nikolauskirche-in-wirlings-mit-fuehrung-
 und-einkehr_id297889
DTSTART;TZID=Europe/Berlin:20261206T000000
LOCATION:Altstadthaus\, Schützenstraße 2\, 87435 Kempten (Allgäu)
END:VEVENT
END:VCALENDAR
