BEGIN:VCALENDAR
VERSION:2.0
PRODID:-//Sabre//Sabre VObject 4.5.8//EN
CALSCALE:GREGORIAN
BEGIN:VEVENT
UID:sabre-vobject-a20580a9-5ae5-4418-aaed-20eb3a6a04d1
DTSTAMP:20260421T124817Z
SUMMARY:Krippenfahrt nach Weilheim mit Stadtführung und Weihnachtsfeier
DESCRIPTION:https://kempten.keb-oberallgaeu.de/keb-kempten-oberallgaeu/vera
 nstaltungen/krippenfahrt-nach-weilheim-mit-stadtfuehrung-und-weihnachtsfei
 er_id297890
DTSTART;TZID=Europe/Berlin:20261212T000000
LOCATION:Altstadthaus\, Schützenstraße 2\, 87435 Kempten (Allgäu)
END:VEVENT
END:VCALENDAR
