BEGIN:VCALENDAR
VERSION:2.0
PRODID:-//Sabre//Sabre VObject 4.5.8//EN
CALSCALE:GREGORIAN
BEGIN:VEVENT
UID:sabre-vobject-d4125629-6fd8-4d3c-8ba7-cfa0f0fd1d0b
DTSTAMP:20260421T084931Z
SUMMARY:Eltern-Kind-Gruppe Dienstag
DESCRIPTION:https://kempten.keb-oberallgaeu.de/keb-kempten-oberallgaeu/vera
 nstaltungen/eltern-kind-gruppe-dienstag_id300222
DTSTART;TZID=Europe/Berlin:20260210T090000
DTEND;TZID=Europe/Berlin:20260210T101500
LOCATION:Kolpingheim\, Pfarrweg 7\, 87487 Wiggensbach
END:VEVENT
END:VCALENDAR
