BEGIN:VCALENDAR
VERSION:2.0
PRODID:-//Sabre//Sabre VObject 4.5.8//EN
CALSCALE:GREGORIAN
BEGIN:VEVENT
UID:sabre-vobject-2cbda684-aeff-437a-88ff-dce8e02228e9
DTSTAMP:20260421T154137Z
SUMMARY:Städtetour nach Ulm
DESCRIPTION:https://kempten.keb-oberallgaeu.de/keb-kempten-oberallgaeu/vera
 nstaltungen/staedtetour-nach-ulm_id305152
DTSTART;TZID=Europe/Berlin:20261024T090000
LOCATION:Kneipp-Verein Kempten e.V.\, Adenauerring 39\, 87439 Kempten (Allg
 äu)
END:VEVENT
END:VCALENDAR
