BEGIN:VCALENDAR
VERSION:2.0
PRODID:-//Sabre//Sabre VObject 4.5.8//EN
CALSCALE:GREGORIAN
BEGIN:VEVENT
UID:sabre-vobject-fd8d320a-987c-406a-a630-269f4b9375f4
DTSTAMP:20260421T155629Z
SUMMARY:Ticken wir noch richtig? Wanderung zum Heimatmuseum Durach
DESCRIPTION:https://kempten.keb-oberallgaeu.de/keb-kempten-oberallgaeu/vera
 nstaltungen/ticken-wir-noch-richtig-wanderung-zum-heimatmuseum-durach_id30
 5153
DTSTART;TZID=Europe/Berlin:20261108T133000
LOCATION:Kneipp-Verein Kempten e.V.\, Adenauerring 39\, 87439 Kempten (Allg
 äu)
END:VEVENT
END:VCALENDAR
