BEGIN:VCALENDAR
VERSION:2.0
PRODID:-//Sabre//Sabre VObject 4.5.8//EN
CALSCALE:GREGORIAN
BEGIN:VEVENT
UID:sabre-vobject-bd6645c2-9a37-4c66-ab54-da2c2898fe5f
DTSTAMP:20260421T143614Z
SUMMARY:Gesundheitstreff:
DESCRIPTION:https://kempten.keb-oberallgaeu.de/keb-kempten-oberallgaeu/vera
 nstaltungen/gesundheitstreff_id305154
DTSTART;TZID=Europe/Berlin:20261120T150000
LOCATION:Gasthaus Waldhorn\, Steufzgen 80\, 87435 Kempten (Allgäu)
END:VEVENT
END:VCALENDAR
