BEGIN:VCALENDAR
VERSION:2.0
PRODID:-//Sabre//Sabre VObject 4.5.8//EN
CALSCALE:GREGORIAN
BEGIN:VEVENT
UID:sabre-vobject-69291e30-7952-4a45-ac9c-344b422c534a
DTSTAMP:20260421T142135Z
SUMMARY:*Kindergedenkfeier für alle die um ein Kind trauern
DESCRIPTION:https://kempten.keb-oberallgaeu.de/keb-kempten-oberallgaeu/vera
 nstaltungen/kindergedenkfeier-fuer-alle-die-um-ein-kind-trauern_id305157
DTSTART;TZID=Europe/Berlin:20261115T140000
LOCATION:St. Raphael\, Bischof-Freundorfer-Weg 24\, 87439 Kempten (Allgäu)
END:VEVENT
END:VCALENDAR
