BEGIN:VCALENDAR
VERSION:2.0
PRODID:-//Sabre//Sabre VObject 4.5.8//EN
CALSCALE:GREGORIAN
BEGIN:VEVENT
UID:sabre-vobject-380a22a5-882b-4e1f-bf11-9793a929f2c2
DTSTAMP:20260424T222343Z
SUMMARY:Herrsching am Ammersee
DESCRIPTION:https://kempten.keb-oberallgaeu.de/keb-kempten-oberallgaeu/vera
 nstaltungen/herrsching-am-ammersee_id306275
DTSTART;TZID=Europe/Berlin:20260520T113000
LOCATION:Pfarrsaal St. Hedwig\, Drosselweg 1\, 87439 Kempten (Allgäu)
END:VEVENT
END:VCALENDAR
