BEGIN:VCALENDAR
VERSION:2.0
PRODID:-//Sabre//Sabre VObject 4.5.8//EN
CALSCALE:GREGORIAN
BEGIN:VEVENT
UID:sabre-vobject-dd29b0e6-92ac-46d5-8512-0b30371045d5
DTSTAMP:20260421T154921Z
SUMMARY:Gedächtnistraining für Senioren
DESCRIPTION:https://kempten.keb-oberallgaeu.de/keb-kempten-oberallgaeu/vera
 nstaltungen/gedaechtnistraining-fuer-senioren_id308623
DTSTART;TZID=Europe/Berlin:20261027T100000
DTEND;TZID=Europe/Berlin:20261027T110000
LOCATION:Josef-Landes-Haus\, Reichenberger Straße 14\, 87437 Kempten (Allg
 äu)
END:VEVENT
END:VCALENDAR
