BEGIN:VCALENDAR
VERSION:2.0
PRODID:-//Sabre//Sabre VObject 4.5.8//EN
CALSCALE:GREGORIAN
BEGIN:VEVENT
UID:sabre-vobject-b2000d3e-4d54-486e-801d-b61984be3539
DTSTAMP:20260421T142826Z
SUMMARY:Gedächtnistraining für Senioren
DESCRIPTION:https://kempten.keb-oberallgaeu.de/keb-kempten-oberallgaeu/vera
 nstaltungen/gedaechtnistraining-fuer-senioren_id308625
DTSTART;TZID=Europe/Berlin:20261110T100000
DTEND;TZID=Europe/Berlin:20261110T110000
LOCATION:Josef-Landes-Haus\, Reichenberger Straße 14\, 87437 Kempten (Allg
 äu)
END:VEVENT
END:VCALENDAR
