BEGIN:VCALENDAR
VERSION:2.0
PRODID:-//Sabre//Sabre VObject 4.5.8//EN
CALSCALE:GREGORIAN
BEGIN:VEVENT
UID:sabre-vobject-af33cc05-da5a-4a06-9cce-ed2921e6e892
DTSTAMP:20260421T124746Z
SUMMARY:Gedächtnistraining für Senioren
DESCRIPTION:https://kempten.keb-oberallgaeu.de/keb-kempten-oberallgaeu/vera
 nstaltungen/gedaechtnistraining-fuer-senioren_id308628
DTSTART;TZID=Europe/Berlin:20261201T100000
DTEND;TZID=Europe/Berlin:20261201T110000
LOCATION:Josef-Landes-Haus\, Reichenberger Straße 14\, 87437 Kempten (Allg
 äu)
END:VEVENT
END:VCALENDAR
