BEGIN:VCALENDAR
VERSION:2.0
PRODID:-//Sabre//Sabre VObject 4.5.8//EN
CALSCALE:GREGORIAN
BEGIN:VEVENT
UID:sabre-vobject-776b933e-b056-450d-b16e-0d34f14b31d2
DTSTAMP:20260421T124250Z
SUMMARY:Gedächtnistraining für Senioren
DESCRIPTION:https://kempten.keb-oberallgaeu.de/keb-kempten-oberallgaeu/vera
 nstaltungen/gedaechtnistraining-fuer-senioren_id308633
DTSTART;TZID=Europe/Berlin:20270105T100000
DTEND;TZID=Europe/Berlin:20270105T110000
LOCATION:Josef-Landes-Haus\, Reichenberger Straße 14\, 87437 Kempten (Allg
 äu)
END:VEVENT
END:VCALENDAR
