BEGIN:VCALENDAR
VERSION:2.0
PRODID:-//Sabre//Sabre VObject 4.5.8//EN
CALSCALE:GREGORIAN
BEGIN:VEVENT
UID:sabre-vobject-1a696f12-0d18-481c-9c54-9d2e0a831190
DTSTAMP:20260421T155635Z
SUMMARY:Gymnastik im Sitzen für Senioren
DESCRIPTION:https://kempten.keb-oberallgaeu.de/keb-kempten-oberallgaeu/vera
 nstaltungen/gymnastik-im-sitzen-fuer-senioren_id308670
DTSTART;TZID=Europe/Berlin:20261026T100000
DTEND;TZID=Europe/Berlin:20261026T110000
LOCATION:Josef-Landes-Haus\, Reichenberger Straße 14\, 87437 Kempten (Allg
 äu)
END:VEVENT
END:VCALENDAR
