BEGIN:VCALENDAR
VERSION:2.0
PRODID:-//Sabre//Sabre VObject 4.5.8//EN
CALSCALE:GREGORIAN
BEGIN:VEVENT
UID:sabre-vobject-c33159af-4ada-475d-a365-1a7b18e994b6
DTSTAMP:20260421T124705Z
SUMMARY:Gymnastik im Sitzen für Senioren
DESCRIPTION:https://kempten.keb-oberallgaeu.de/keb-kempten-oberallgaeu/vera
 nstaltungen/gymnastik-im-sitzen-fuer-senioren_id308679
DTSTART;TZID=Europe/Berlin:20261228T100000
DTEND;TZID=Europe/Berlin:20261228T110000
LOCATION:Josef-Landes-Haus\, Reichenberger Straße 14\, 87437 Kempten (Allg
 äu)
END:VEVENT
END:VCALENDAR
