BEGIN:VCALENDAR
VERSION:2.0
PRODID:-//Sabre//Sabre VObject 4.5.8//EN
CALSCALE:GREGORIAN
BEGIN:VEVENT
UID:sabre-vobject-6634df12-4358-4bc7-8033-31d6d7a2f6c1
DTSTAMP:20260421T152843Z
SUMMARY:Island - Wandern zwischen Feuer und Eis
DESCRIPTION:https://kempten.keb-oberallgaeu.de/keb-kempten-oberallgaeu/vera
 nstaltungen/island-wandern-zwischen-feuer-und-eis_id317258
DTSTART;TZID=Europe/Berlin:20261102T140000
LOCATION:Pfarrsaal St. Ulrich\, Schumacherring 65\, 87437 Kempten (Allgäu)
END:VEVENT
END:VCALENDAR
