BEGIN:VCALENDAR
VERSION:2.0
PRODID:-//Sabre//Sabre VObject 4.5.8//EN
CALSCALE:GREGORIAN
BEGIN:VEVENT
UID:sabre-vobject-ef8f22af-151f-4cf4-b21a-34644f0da455
DTSTAMP:20260426T012552Z
SUMMARY:Meditation: Impulse zum Leben
DESCRIPTION:https://kempten.keb-oberallgaeu.de/keb-kempten-oberallgaeu/vera
 nstaltungen/meditation-impulse-zum-leben_id321982
DTSTART;TZID=Europe/Berlin:20260721T180000
LOCATION:Online
END:VEVENT
END:VCALENDAR
