BEGIN:VCALENDAR
VERSION:2.0
PRODID:-//Sabre//Sabre VObject 4.5.8//EN
CALSCALE:GREGORIAN
BEGIN:VEVENT
UID:sabre-vobject-6ee87d86-2bad-42ac-ad8a-deb2fb20c2c1
DTSTAMP:20260421T154921Z
SUMMARY:Spazierfahrt nach Augsburg - mit Vorstellung in der Puppenkiste
DESCRIPTION:https://kempten.keb-oberallgaeu.de/keb-kempten-oberallgaeu/vera
 nstaltungen/spazierfahrt-nach-augsburg-mit-vorstellung-in-der-puppenkiste_
 id322296
DTSTART;TZID=Europe/Berlin:20261111T000000
LOCATION:Pfarrheim St. Martin\, Untere Dorfstraße 13\, 87448 Waltenhofen
END:VEVENT
END:VCALENDAR
