BEGIN:VCALENDAR
VERSION:2.0
PRODID:-//Sabre//Sabre VObject 4.5.8//EN
CALSCALE:GREGORIAN
BEGIN:VEVENT
UID:sabre-vobject-4617ef0c-36c3-4a09-9c10-ce19fd912024
DTSTAMP:20260422T081739Z
SUMMARY:Sitztanz - Schnupperkurs
DESCRIPTION:https://kempten.keb-oberallgaeu.de/keb-kempten-oberallgaeu/vera
 nstaltungen/sitztanz-schnupperkurs_id322606
DTSTART;TZID=Europe/Berlin:20260422T140000
LOCATION:Konferenzzimmer St. Ulrich\, Schumacherring 65\, 87437 Kempten (Al
 lgäu)
END:VEVENT
END:VCALENDAR
