BEGIN:VCALENDAR
VERSION:2.0
PRODID:-//Sabre//Sabre VObject 4.5.8//EN
CALSCALE:GREGORIAN
BEGIN:VEVENT
UID:sabre-vobject-d408fc8e-3adf-483e-898f-e80f8400195d
DTSTAMP:20260420T061832Z
SUMMARY:Trickbetrug
DESCRIPTION:https://kempten.keb-oberallgaeu.de/keb-kempten-oberallgaeu/vera
 nstaltungen/trickbetrug_id322613
DTSTART;TZID=Europe/Berlin:20260507T140000
LOCATION:Malteser Hilfsdienst e.V. Dienststelle\, Mozartstraße 5a\, 87435 
 Kempten (Allgäu)
END:VEVENT
END:VCALENDAR
