BEGIN:VCALENDAR
VERSION:2.0
PRODID:-//Sabre//Sabre VObject 4.5.8//EN
CALSCALE:GREGORIAN
BEGIN:VEVENT
UID:sabre-vobject-d6a8ff1a-f270-4517-a4c3-c2734799ff58
DTSTAMP:20260420T062005Z
SUMMARY:Positives Denken für mehr Lebensfreude
DESCRIPTION:https://kempten.keb-oberallgaeu.de/keb-kempten-oberallgaeu/vera
 nstaltungen/positives-denken-fuer-mehr-lebensfreude_id322615
DTSTART;TZID=Europe/Berlin:20260702T140000
LOCATION:Malteser Hilfsdienst e.V. Dienststelle\, Mozartstraße 5a\, 87435 
 Kempten (Allgäu)
END:VEVENT
END:VCALENDAR
