BEGIN:VCALENDAR
VERSION:2.0
PRODID:-//Sabre//Sabre VObject 4.5.8//EN
CALSCALE:GREGORIAN
BEGIN:VEVENT
UID:sabre-vobject-95a1198b-0336-4a63-adb9-8e64e014950a
DTSTAMP:20260420T061820Z
SUMMARY:Magische Momente der Natur
DESCRIPTION:https://kempten.keb-oberallgaeu.de/keb-kempten-oberallgaeu/vera
 nstaltungen/magische-momente-der-natur_id322616
DTSTART;TZID=Europe/Berlin:20261001T140000
LOCATION:Malteser Hilfsdienst e.V. Dienststelle\, Mozartstraße 5a\, 87435 
 Kempten (Allgäu)
END:VEVENT
END:VCALENDAR
