BEGIN:VCALENDAR
VERSION:2.0
PRODID:-//Sabre//Sabre VObject 4.5.8//EN
CALSCALE:GREGORIAN
BEGIN:VEVENT
UID:sabre-vobject-5c48bddb-25b8-4997-bcb4-3a3dabc70578
DTSTAMP:20260421T124816Z
SUMMARY:Harmonische Babymassage
DESCRIPTION:https://kempten.keb-oberallgaeu.de/keb-kempten-oberallgaeu/vera
 nstaltungen/harmonische-babymassage_id322621
DTSTART;TZID=Europe/Berlin:20261231T100000
LOCATION:Kath. Beratungsstelle für Schwangerschaft und junge Familien\, Zw
 ingerstraße 18\, 87435 Kempten (Allgäu)
END:VEVENT
END:VCALENDAR
