BEGIN:VCALENDAR
VERSION:2.0
PRODID:-//Sabre//Sabre VObject 4.5.8//EN
CALSCALE:GREGORIAN
BEGIN:VEVENT
UID:sabre-vobject-8de18919-8afe-408f-8394-412ab9971ee3
DTSTAMP:20260421T124833Z
SUMMARY:Digitaler Infoabend Elterngeld
DESCRIPTION:https://kempten.keb-oberallgaeu.de/keb-kempten-oberallgaeu/vera
 nstaltungen/digitaler-infoabend-elterngeld_id322629
DTSTART;TZID=Europe/Berlin:20261210T173000
LOCATION:Kath. Beratungsstelle für Schwangerschaft und junge Familien\, Zw
 ingerstraße 18\, 87435 Kempten (Allgäu)
END:VEVENT
END:VCALENDAR
