BEGIN:VCALENDAR
VERSION:2.0
PRODID:-//Sabre//Sabre VObject 4.5.8//EN
CALSCALE:GREGORIAN
BEGIN:VEVENT
UID:sabre-vobject-17e9510b-a0f7-4e4a-b5f1-c9739a87a3ec
DTSTAMP:20260420T062005Z
SUMMARY:Erste Hilfe Grundkurs
DESCRIPTION:https://kempten.keb-oberallgaeu.de/keb-kempten-oberallgaeu/vera
 nstaltungen/erste-hilfe-grundkurs_id327061
DTSTART;TZID=Europe/Berlin:20260613T083000
LOCATION:Malteser Hilfsdienst e.V. Dienststelle\, Mozartstraße 5a\, 87435 
 Kempten (Allgäu)
END:VEVENT
END:VCALENDAR
