BEGIN:VCALENDAR
VERSION:2.0
PRODID:-//Sabre//Sabre VObject 4.5.8//EN
CALSCALE:GREGORIAN
BEGIN:VEVENT
UID:sabre-vobject-d9dd52fc-e78e-4abc-81bc-3068006c536c
DTSTAMP:20260420T024933Z
SUMMARY:Erste Hilfe Grundkurs
DESCRIPTION:https://kempten.keb-oberallgaeu.de/keb-kempten-oberallgaeu/vera
 nstaltungen/erste-hilfe-grundkurs_id327062
DTSTART;TZID=Europe/Berlin:20260506T083000
LOCATION:Malteser Hilfsdienst e.V. Dienststelle\, Mozartstraße 5a\, 87435 
 Kempten (Allgäu)
END:VEVENT
END:VCALENDAR
