BEGIN:VCALENDAR
VERSION:2.0
PRODID:-//Sabre//Sabre VObject 4.5.8//EN
CALSCALE:GREGORIAN
BEGIN:VEVENT
UID:sabre-vobject-016d4dc8-d49d-430a-acb3-4026760e6548
DTSTAMP:20260421T184041Z
SUMMARY:Lachyoga - Schnupperstunde
DESCRIPTION:https://kempten.keb-oberallgaeu.de/keb-kempten-oberallgaeu/vera
 nstaltungen/lachyoga-schnupperstunde_id327676
DTSTART;TZID=Europe/Berlin:20260429T173000
LOCATION:Konferenzzimmer St. Ulrich\, Schumacherring 65\, 87437 Kempten (Al
 lgäu)
END:VEVENT
END:VCALENDAR
